8.000000000
0.000000
0.000000
-8.000000000
513323.92475785
149664.86614269
