8.000000000
0.000000
0.000000
-8.000000000
513323.63362917
149659.31183910
