8.000000000
0.000000
0.000000
-8.000000000
513288.84974288
149657.63803596
