8.000000000
0.000000
0.000000
-8.000000000
513176.91187190
150524.46569351
