8.000000000
0.000000
0.000000
-8.000000000
513180.77516473
150526.26422802
