8.000000000
0.000000
0.000000
-8.000000000
513299.62190714
146805.42765306
