8.000000000
0.000000
0.000000
-8.000000000
513274.29839734
146810.10584936
