8.000000000
0.000000
0.000000
-8.000000000
512089.83886837
148481.37201615
