8.000000000
0.000000
0.000000
-8.000000000
512091.36676347
148483.82068244
