8.000000000
0.000000
0.000000
-8.000000000
512081.06913823
148479.64393541
