8.000000000
0.000000
0.000000
-8.000000000
512103.97100512
149160.22094396
