8.000000000
0.000000
0.000000
-8.000000000
512100.77256162
149160.26642516
