8.000000000
0.000000
0.000000
-8.000000000
512102.30907043
149163.33257273
