8.000000000
0.000000
0.000000
-8.000000000
512104.00173581
149162.38210460
