8.000000000
0.000000
0.000000
-8.000000000
512361.33916774
149261.86735762
