8.000000000
0.000000
0.000000
-8.000000000
512352.27861301
149254.58463143
