8.000000000
0.000000
0.000000
-8.000000000
512359.78530461
149257.56619403
