8.000000000
0.000000
0.000000
-8.000000000
512360.39871999
149255.70469987
