8.000000000
0.000000
0.000000
-8.000000000
511655.81813627
145676.87640294
