8.000000000
0.000000
0.000000
-8.000000000
511639.48433251
145668.77222290
