8.000000000
0.000000
0.000000
-8.000000000
511642.30201338
145671.81993922
