8.000000000
0.000000
0.000000
-8.000000000
511664.23060725
146206.03519332
