8.000000000
0.000000
0.000000
-8.000000000
511666.39039660
146207.85712802
