8.000000000
0.000000
0.000000
-8.000000000
511663.40373712
146207.89979134
