8.000000000
0.000000
0.000000
-8.000000000
511646.68718849
146217.71133792
