8.000000000
0.000000
0.000000
-8.000000000
511646.46944492
146217.40565122
