8.000000000
0.000000
0.000000
-8.000000000
511658.46802203
146803.33274938
