8.000000000
0.000000
0.000000
-8.000000000
511656.22903643
147005.00999771
