8.000000000
0.000000
0.000000
-8.000000000
511676.60767049
147012.74761984
