8.000000000
0.000000
0.000000
-8.000000000
511675.56040296
146999.17545379
