8.000000000
0.000000
0.000000
-8.000000000
511680.16425743
147366.27104411
