8.000000000
0.000000
0.000000
-8.000000000
511682.03537666
147362.84753135
