8.000000000
0.000000
0.000000
-8.000000000
511661.22535447
147369.62959867
