8.000000000
0.000000
0.000000
-8.000000000
511665.70007951
147369.25686706
