8.000000000
0.000000
0.000000
-8.000000000
510859.22927736
147690.55812224
