8.000000000
0.000000
0.000000
-8.000000000
510862.27064886
147605.59443469
