8.000000000
0.000000
0.000000
-8.000000000
510866.34530172
147607.07967831
