8.000000000
0.000000
0.000000
-8.000000000
510874.45899184
147607.58029236
