8.000000000
0.000000
0.000000
-8.000000000
510875.53431346
147608.18238767
