8.000000000
0.000000
0.000000
-8.000000000
510468.24255379
148282.31103650
