8.000000000
0.000000
0.000000
-8.000000000
510466.99123785
148299.00437158
