8.000000000
0.000000
0.000000
-8.000000000
508412.07723333
145726.85458809
