8.000000000
0.000000
0.000000
-8.000000000
508414.61455774
145725.27299521
