8.000000000
0.000000
0.000000
-8.000000000
508414.62828053
145726.19919105
