8.000000000
0.000000
0.000000
-8.000000000
512345.59715924
151850.45698883
