8.000000000
0.000000
0.000000
-8.000000000
512343.51836365
151854.19209847
