8.000000000
0.000000
0.000000
-8.000000000
512344.67744183
151830.70673460
