8.000000000
0.000000
0.000000
-8.000000000
511972.65381182
151828.89327435
