8.000000000
0.000000
0.000000
-8.000000000
511971.19704838
151831.38444422
