8.000000000
0.000000
0.000000
-8.000000000
511966.51288630
151861.71376610
